BEGIN:VCALENDAR
VERSION:2.0
PRODID:-//Idaho Counties Risk Management Program - ECPv6.15.18//NONSGML v1.0//EN
CALSCALE:GREGORIAN
METHOD:PUBLISH
X-ORIGINAL-URL:https://www.icrmp.org
X-WR-CALDESC:Events for Idaho Counties Risk Management Program
REFRESH-INTERVAL;VALUE=DURATION:PT1H
X-Robots-Tag:noindex
X-PUBLISHED-TTL:PT1H
BEGIN:VTIMEZONE
TZID:America/Boise
BEGIN:DAYLIGHT
TZOFFSETFROM:-0700
TZOFFSETTO:-0600
TZNAME:MDT
DTSTART:20250309T090000
END:DAYLIGHT
BEGIN:STANDARD
TZOFFSETFROM:-0600
TZOFFSETTO:-0700
TZNAME:MST
DTSTART:20251102T080000
END:STANDARD
BEGIN:DAYLIGHT
TZOFFSETFROM:-0700
TZOFFSETTO:-0600
TZNAME:MDT
DTSTART:20260308T090000
END:DAYLIGHT
BEGIN:STANDARD
TZOFFSETFROM:-0600
TZOFFSETTO:-0700
TZNAME:MST
DTSTART:20261101T080000
END:STANDARD
BEGIN:DAYLIGHT
TZOFFSETFROM:-0700
TZOFFSETTO:-0600
TZNAME:MDT
DTSTART:20270314T090000
END:DAYLIGHT
BEGIN:STANDARD
TZOFFSETFROM:-0600
TZOFFSETTO:-0700
TZNAME:MST
DTSTART:20271107T080000
END:STANDARD
END:VTIMEZONE
BEGIN:VEVENT
DTSTART;TZID=America/Boise:20260430T090000
DTEND;TZID=America/Boise:20260430T170000
DTSTAMP:20260423T175329
CREATED:20260422T212943Z
LAST-MODIFIED:20260422T212943Z
UID:10000608-1777539600-1777568400@www.icrmp.org
SUMMARY:ARCON: Basic Takedown\, Ground Tactics\, Restraints and Searching
DESCRIPTION:Detailed Course Information: Link \nThis course is open to all sworn Patrol and Detention personnel in both Sheriff’s Offices and Police Departments. \nAttendees can expect a hands-on learning environment to include discussion and training where application of laws will be attached directly to real life use of force training. Current case laws will be reviewed\, with each discipline instructed. Attendees will be training using force techniques demonstrated and will demonstrate competencies through observed physical interactions with fellow students. \nThe following will be specifically covered: \n\nGraham v Conner Idaho Code 19-610\nKopec v. Tate Idaho Code 19-602\nScott v. Smith\n\nARCON Techniques \nAttendees will need to be in attire conducive to rolling on mats\, being taken down in training exercises and restrained. Bring your regular duty equipment. \nThis course has been approved for 8 hours of POST training credit. \nFor more information or to register\, please contact Cole Kuta ckuta@icrmp.org \n\n		\n			\n				\n			\n			\n		\n		\n			Cole has 11 years of law enforcement experience. As a patrol sergeant\, he obtained an Idaho POST advanced certification and supervisor certification. Cole is a high liability instructor in defensive tactics. At ICRMP\, Cole is available to instruct on general law enforcement topic subjects and ARCON. Contact Cole for your law enforcement training needs.
URL:https://www.icrmp.org/event/arcon-basic-takedown-ground-tactics-restraints-and-searching/
LOCATION:Salmon High School\, 401 S Warpath St\, Salmon\, 83467\, United States
CATEGORIES:Law Enforcement
ORGANIZER;CN="Cole Kuta%2C Law Enforcement Risk Specialist":MAILTO:ckuta@icrmp.org
END:VEVENT
END:VCALENDAR