BEGIN:VCALENDAR
VERSION:2.0
PRODID:-//Idaho Counties Risk Management Program - ECPv6.15.18//NONSGML v1.0//EN
CALSCALE:GREGORIAN
METHOD:PUBLISH
X-ORIGINAL-URL:https://www.icrmp.org
X-WR-CALDESC:Events for Idaho Counties Risk Management Program
REFRESH-INTERVAL;VALUE=DURATION:PT1H
X-Robots-Tag:noindex
X-PUBLISHED-TTL:PT1H
BEGIN:VTIMEZONE
TZID:America/Boise
BEGIN:DAYLIGHT
TZOFFSETFROM:-0700
TZOFFSETTO:-0600
TZNAME:MDT
DTSTART:20250309T090000
END:DAYLIGHT
BEGIN:STANDARD
TZOFFSETFROM:-0600
TZOFFSETTO:-0700
TZNAME:MST
DTSTART:20251102T080000
END:STANDARD
BEGIN:DAYLIGHT
TZOFFSETFROM:-0700
TZOFFSETTO:-0600
TZNAME:MDT
DTSTART:20260308T090000
END:DAYLIGHT
BEGIN:STANDARD
TZOFFSETFROM:-0600
TZOFFSETTO:-0700
TZNAME:MST
DTSTART:20261101T080000
END:STANDARD
BEGIN:DAYLIGHT
TZOFFSETFROM:-0700
TZOFFSETTO:-0600
TZNAME:MDT
DTSTART:20270314T090000
END:DAYLIGHT
BEGIN:STANDARD
TZOFFSETFROM:-0600
TZOFFSETTO:-0700
TZNAME:MST
DTSTART:20271107T080000
END:STANDARD
END:VTIMEZONE
BEGIN:VEVENT
DTSTART;TZID=America/Boise:20260304T100000
DTEND;TZID=America/Boise:20260304T110000
DTSTAMP:20260421T064848
CREATED:20260209T225641Z
LAST-MODIFIED:20260210T163954Z
UID:10000539-1772618400-1772622000@www.icrmp.org
SUMMARY:Webinar - From Request to Resolution: ADA\, PWFA & FMLA
DESCRIPTION:From Request to Resolution: ADA\, PWFA & FMLA Webinar \nDescription: This scenario‑driven session walks step‑by‑step through what to do the day an employee asks for help – from intake to resolution. Using common public‑sector examples\, we’ll cover: identifying which law(s) apply; verifying eligibility; gathering only the medical information you truly need; coordinating ADA accommodations and FMLA leave; addressing PWFA obligations for pregnancy‑related limitations; and documenting decisions that stand up to scrutiny. You’ll leave with a practical framework for consistent\, compassionate\, and defensible outcomes – plus language you can use in real conversations with employees and department heads. \nBring your questions! We will wrap up with a live Q&A session. \nIntended Audience – Elected Officials\, Managers and Supervisors \nFlyer Information \nClick Here to Register \n\n		\n			\n				\n		\n			\n			\n		\n		\n			Jessica has dedicated nearly fifteen years to defending Idaho public entities and advising employers on risk management and legal compliance. She has served as employment defense counsel for major Idaho employers and public sector clients\, including as Senior Attorney Adviser for the U.S. Department of the Interior\, where she led litigation and policy development for the Department’s 70\,000 employees. Jessica’s expertise spans employment law\, workplace investigations\, insurance coverage\, regulatory compliance\, and strategic risk assessment. She is committed to safeguarding public entities through practical legal counsel and innovative solutions.
URL:https://www.icrmp.org/event/webinar-from-request-to-resolution-ada-pwfa-fmla/
LOCATION:Webinar
CATEGORIES:Human Resources,Risk Management
ORGANIZER;CN="Jessica Pollack%2C Risk Management Legal Counsel":MAILTO:jpollack@icrmp.org
END:VEVENT
END:VCALENDAR