BEGIN:VCALENDAR
VERSION:2.0
PRODID:-//Idaho Counties Risk Management Program - ECPv6.15.18//NONSGML v1.0//EN
CALSCALE:GREGORIAN
METHOD:PUBLISH
X-ORIGINAL-URL:https://www.icrmp.org
X-WR-CALDESC:Events for Idaho Counties Risk Management Program
REFRESH-INTERVAL;VALUE=DURATION:PT1H
X-Robots-Tag:noindex
X-PUBLISHED-TTL:PT1H
BEGIN:VTIMEZONE
TZID:America/Boise
BEGIN:DAYLIGHT
TZOFFSETFROM:-0700
TZOFFSETTO:-0600
TZNAME:MDT
DTSTART:20220313T090000
END:DAYLIGHT
BEGIN:STANDARD
TZOFFSETFROM:-0600
TZOFFSETTO:-0700
TZNAME:MST
DTSTART:20221106T080000
END:STANDARD
BEGIN:DAYLIGHT
TZOFFSETFROM:-0700
TZOFFSETTO:-0600
TZNAME:MDT
DTSTART:20230312T090000
END:DAYLIGHT
BEGIN:STANDARD
TZOFFSETFROM:-0600
TZOFFSETTO:-0700
TZNAME:MST
DTSTART:20231105T080000
END:STANDARD
BEGIN:DAYLIGHT
TZOFFSETFROM:-0700
TZOFFSETTO:-0600
TZNAME:MDT
DTSTART:20240310T090000
END:DAYLIGHT
BEGIN:STANDARD
TZOFFSETFROM:-0600
TZOFFSETTO:-0700
TZNAME:MST
DTSTART:20241103T080000
END:STANDARD
END:VTIMEZONE
BEGIN:VEVENT
DTSTART;TZID=America/Boise:20230403T100000
DTEND;TZID=America/Boise:20230403T110000
DTSTAMP:20260421T090611
CREATED:20230315T234143Z
LAST-MODIFIED:20230321T172440Z
UID:10000013-1680516000-1680519600@www.icrmp.org
SUMMARY:Respectful Workplace Webinar
DESCRIPTION:Respectful workplace dives into discrimination\, harassment and retaliation to teach you what they look like in the workplace\, how to avoid them and what to do when you witness or are confronted with them.\nFlyer Information \n\n		\n			\n				\n			\n			\n		 \n		\n			Tammy has expertise in human resources strategies\, talent acquisition\, employee performance management\, training and development\, records management\, safety and health\, succession planning\, employee relations\, retention\, investigations and employment law compliance. Tammy has a B.S. in Psychology from Boise State University. She also holds a SHRM-CP\, CPHR (Canada) and CIWCS (Idaho).
URL:https://www.icrmp.org/event/respectful-workplace-webinar-3/
LOCATION:Webinar
CATEGORIES:Human Resources
ORGANIZER;CN="Tammy Middleton%2C Human Resources Risk Manager":MAILTO:tmiddleton@icrmp.org
END:VEVENT
BEGIN:VEVENT
DTSTART;TZID=America/Boise:20230404T080000
DTEND;TZID=America/Boise:20230404T120000
DTSTAMP:20260421T090611
CREATED:20230317T224912Z
LAST-MODIFIED:20230317T225029Z
UID:10000034-1680595200-1680609600@www.icrmp.org
SUMMARY:Use of Force Legal Updates Training
DESCRIPTION:Detailed Course Information: Link \nThis course is open to all sworn Patrol and Detention personnel in both Sheriff’s offices and Police departments.  Attendees can expect a classroom discussion training\, where problem solving\, and decision making will be discussed. Recent national cases will be reviewed\, with both court findings and on body camera recordings discussed. Federal legal updates for 2022 will be given\, and your policy guidelines will be compared. The following will be specifically discussed: \n\nCivil Liability\nSuspect Seizure\nDeorle V Rutherford\nDeliberate Indifference\nPlumhoff V Rickard\nGraham V Conner\nBrandin V California\nHeadwaters v Co. of Humbolt\nQualified Immunity\nMcRaven v Sanders\n\nThis course has been approved for 4 hours of POST training credit. \n\n		\n			\n				\n			\n			\n		 \n		\n			Chad served 23 years in Idaho law enforcement. As a commander\, he achieved Advanced Patrol and Level III Detention certificates. At ICRMP\, Chad trains law enforcement personnel with the highest level POST-certified training available to law enforcement and offers 30 state-wide certified classes. He also assists agencies in developing their own certified training departments.
URL:https://www.icrmp.org/event/use-of-force-legal-updates-training-3/
LOCATION:Kellogg Police Department\, 911 Bunker Avenue\, Kellogg\, ID\, 83837\, United States
CATEGORIES:Law Enforcement
ORGANIZER;CN="Chad Sarmento%2C Law Enforcement Risk Manager":MAILTO:csarmento@icrmp.org
END:VEVENT
BEGIN:VEVENT
DTSTART;TZID=America/Boise:20230404T130000
DTEND;TZID=America/Boise:20230404T150000
DTSTAMP:20260421T090612
CREATED:20230317T225439Z
LAST-MODIFIED:20230317T225439Z
UID:10000035-1680613200-1680620400@www.icrmp.org
SUMMARY:Communication & De-escalation for Law Enforcement Personnel
DESCRIPTION:Detailed Course Information: Link \nThis course is open to all sworn or non-sworn personnel\, in any division of Lawe Enforcement or related public service agency personnel.  This newly updated POST certified class includes updates for all line to command level staff members. Presented through a combination of classroom lecture and practical exercises\, this 2-hour course will provide students with principles and techniques that will help them better handle tense interactions with the public and those that are going into custody. Topics covered will include: \n\nFour-step communication\nOfficer Safety\nUninvolved Bystanders\nVideo Recording Devices\nMedical Illness Factors\nTime vs need for action\nConfrontational Conversations\n\nThis course has been approved for 2 hours of POST training credit. \n\n		\n			\n				\n			\n			\n		 \n		\n			Chad served 23 years in Idaho law enforcement. As a commander\, he achieved Advanced Patrol and Level III Detention certificates. At ICRMP\, Chad trains law enforcement personnel with the highest level POST-certified training available to law enforcement and offers 30 state-wide certified classes. He also assists agencies in developing their own certified training departments.
URL:https://www.icrmp.org/event/communication-de-escalation-for-law-enforcement-personnel/
LOCATION:Kellogg Police Department\, 911 Bunker Avenue\, Kellogg\, ID\, 83837\, United States
CATEGORIES:Law Enforcement
ORGANIZER;CN="Chad Sarmento%2C Law Enforcement Risk Manager":MAILTO:csarmento@icrmp.org
END:VEVENT
BEGIN:VEVENT
DTSTART;TZID=America/Boise:20230404T150000
DTEND;TZID=America/Boise:20230404T170000
DTSTAMP:20260421T090612
CREATED:20230317T225728Z
LAST-MODIFIED:20230317T225728Z
UID:10000036-1680620400-1680627600@www.icrmp.org
SUMMARY:Advanced Search & Seizure Procedures for Patrol/Detention
DESCRIPTION:Detailed Course Information: Link \nThis course is open to all sworn Patrol and Detention personnel in both Sheriff’s Offices and Police Departments. The POST certified course has received EXCELLENT reviews from those who have attended it!! Attendees can expect a classroom discussion training\, where problem solving\, and decision making will be discussed. Recent national cases will be reviewed\, with both court findings and on body camera recordings discussed. Federal case law for 2022 will be given\, and your policy guidelines will be compared. The following will be specifically discussed: \n\nCivil Liability\n4th Amendment Seizures\nPrivacy Expectations\nSearch Warrants\nQualified Immunity\nDetention Warrants\nIdaho Criminal Code related to search and seizure\n\nThis course has been approved for 2 hours of POST training credit. \n\n		\n			\n				\n			\n			\n		 \n		\n			Chad served 23 years in Idaho law enforcement. As a commander\, he achieved Advanced Patrol and Level III Detention certificates. At ICRMP\, Chad trains law enforcement personnel with the highest level POST-certified training available to law enforcement and offers 30 state-wide certified classes. He also assists agencies in developing their own certified training departments.
URL:https://www.icrmp.org/event/advanced-search-seizure-procedures-for-patrol-detention/
LOCATION:Kellogg Police Department\, 911 Bunker Avenue\, Kellogg\, ID\, 83837\, United States
CATEGORIES:Law Enforcement
ORGANIZER;CN="Chad Sarmento%2C Law Enforcement Risk Manager":MAILTO:csarmento@icrmp.org
END:VEVENT
BEGIN:VEVENT
DTSTART;TZID=America/Boise:20230407T080000
DTEND;TZID=America/Boise:20230407T170000
DTSTAMP:20260421T090612
CREATED:20230316T221019Z
LAST-MODIFIED:20230316T221019Z
UID:10000032-1680854400-1680886800@www.icrmp.org
SUMMARY:Use of Force Legal Updates Training
DESCRIPTION:Detailed Course Information: Link \nThis course is open to all sworn Patrol and Detention personnel in both Sheriff’s offices and Police departments.  Attendees can expect a classroom discussion training\, where problem solving\, and decision making will be discussed. Recent national cases will be reviewed\, with both court findings and on body camera recordings discussed. Federal legal updates for 2022 will be given\, and your policy guidelines will be compared. The following will be specifically discussed: \n\nCivil Liability\nSuspect Seizure\nDeorle V Rutherford\nDeliberate Indifference\nPlumhoff V Rickard\nLess-Lethal Options\nDuty to Intercede\nGraham V Conner\nBrandin V California\nHeadwaters v Co. of Humbolt\nQualified Immunity\nMcRaven v Sanders\nDeadly Force\nDe-escalation\n\nThis course has been approved for 8 hours of POST training credit. \n\n		\n			\n				\n			\n			\n		 \n		\n			Chad served 23 years in Idaho law enforcement. As a commander\, he achieved Advanced Patrol and Level III Detention certificates. At ICRMP\, Chad trains law enforcement personnel with the highest level POST-certified training available to law enforcement and offers 30 state-wide certified classes. He also assists agencies in developing their own certified training departments.
URL:https://www.icrmp.org/event/use-of-force-legal-updates-training/
LOCATION:Sandpoint Police Department\, 1123 Lake Street\, Sandpoint\, ID\, 83864\, United States
CATEGORIES:Law Enforcement
ORGANIZER;CN="Chad Sarmento%2C Law Enforcement Risk Manager":MAILTO:csarmento@icrmp.org
END:VEVENT
BEGIN:VEVENT
DTSTART;VALUE=DATE:20230410
DTEND;VALUE=DATE:20230412
DTSTAMP:20260421T090612
CREATED:20230315T235324Z
LAST-MODIFIED:20230315T235620Z
UID:10000014-1681084800-1681257599@www.icrmp.org
SUMMARY:LE-First Line Supervisor Training (LE600)
DESCRIPTION:Detailed Course Information: Link \nThis course is open to all sworn or non-sworn Command Level Supervisors\, or above\, in any division of Law Enforcement or related public service agency personnel. The POST certified course has received EXCELLENT reviews from those who have attended it!! Presented through a combination of classroom lecture and practical exercises\,\nthis 2-day course (8AM to 5 PM) will provide new FTO’s and first line supervisors with principles and techniques that will help them become successful supervisors. Topics will include: \n\nManagement Styles\nCoaching Employees\nProblem Employees\nGenerational Differences\nPerformance Evaluations\nEmployee Discipline\nCivil Liability\n\nThis course has been approved for 16 hours of POST training credit. \n\n		\n			\n				\n			\n			\n		 \n		\n			Chad served 23 years in Idaho law enforcement. As a commander\, he achieved Advanced Patrol and Level III Detention certificates. At ICRMP\, Chad trains law enforcement personnel with the highest level POST-certified training available to law enforcement and offers 30 state-wide certified classes. He also assists agencies in developing their own certified training departments.
URL:https://www.icrmp.org/event/le-first-line-supervisor-training-le600/
LOCATION:Mountain Home Police Department\, 2775 E. Eight North Street\, Mountain Home\, ID\, 83647\, United States
CATEGORIES:Law Enforcement
ORGANIZER;CN="Chad Sarmento%2C Law Enforcement Risk Manager":MAILTO:csarmento@icrmp.org
END:VEVENT
BEGIN:VEVENT
DTSTART;TZID=America/Boise:20230411T090000
DTEND;TZID=America/Boise:20230411T153000
DTSTAMP:20260421T090612
CREATED:20230315T235942Z
LAST-MODIFIED:20230410T170830Z
UID:10000015-1681203600-1681227000@www.icrmp.org
SUMMARY:Supervisor Training Series Part 1-Moscow
DESCRIPTION:Course Information \n	\n	\n\n		\n			\n				\n			\n			\n		 \n		\n			Tammy has expertise in human resources strategies\, talent acquisition\, employee performance management\, training and development\, records management\, safety and health\, succession planning\, employee relations\, retention\, investigations and employment law compliance. Tammy has a B.S. in Psychology from Boise State University. She also holds a SHRM-CP\, CPHR (Canada) and CIWCS (Idaho).
URL:https://www.icrmp.org/event/supervisor-training-series-part-1-moscow/
LOCATION:Latah County Fairgrounds\, 1021 Harold Street\, Moscow\, ID\, 83843\, United States
CATEGORIES:Human Resources
ORGANIZER;CN="Tammy Middleton%2C Human Resources Risk Manager":MAILTO:tmiddleton@icrmp.org
END:VEVENT
BEGIN:VEVENT
DTSTART;TZID=America/Boise:20230412T080000
DTEND;TZID=America/Boise:20230412T120000
DTSTAMP:20260421T090612
CREATED:20230316T221441Z
LAST-MODIFIED:20230316T221441Z
UID:10000033-1681286400-1681300800@www.icrmp.org
SUMMARY:Use of Force Legal Updates Training
DESCRIPTION:Detailed Course Information: Link \nThis course is open to all sworn Patrol and Detention personnel in both Sheriff’s offices and Police departments.  Attendees can expect a classroom discussion training\, where problem solving\, and decision making will be discussed. Recent national cases will be reviewed\, with both court findings and on body camera recordings discussed. Federal legal updates for 2022 will be given\, and your policy guidelines will be compared. The following will be specifically discussed: \n\nCivil Liability\nSuspect Seizure\nDeorle V Rutherford\nDeliberate Indifference\nPlumhoff V Rickard\nGraham V Conner\nBrandin V California\nHeadwaters v Co. of Humbolt\nQualified Immunity\nMcRaven v Sanders\n\nThis course has been approved for 4 hours of POST training credit. \n\n		\n			\n				\n			\n			\n		 \n		\n			Chad served 23 years in Idaho law enforcement. As a commander\, he achieved Advanced Patrol and Level III Detention certificates. At ICRMP\, Chad trains law enforcement personnel with the highest level POST-certified training available to law enforcement and offers 30 state-wide certified classes. He also assists agencies in developing their own certified training departments.
URL:https://www.icrmp.org/event/use-of-force-legal-updates-training-2/
LOCATION:Camas County Sheriff’s Office\, 119 Willow Avenue W\, Fairfield\, ID\, 83327\, United States
CATEGORIES:Law Enforcement
ORGANIZER;CN="Chad Sarmento%2C Law Enforcement Risk Manager":MAILTO:csarmento@icrmp.org
END:VEVENT
BEGIN:VEVENT
DTSTART;TZID=America/Boise:20230412T090000
DTEND;TZID=America/Boise:20230412T153000
DTSTAMP:20260421T090612
CREATED:20230316T000524Z
LAST-MODIFIED:20230321T191920Z
UID:10000016-1681290000-1681313400@www.icrmp.org
SUMMARY:Supervisor Training Series Part 1-Coeur d'Alene
DESCRIPTION:Course Information \n	\n	\n\n		\n			\n				\n			\n			\n		 \n		\n			Tammy has expertise in human resources strategies\, talent acquisition\, employee performance management\, training and development\, records management\, safety and health\, succession planning\, employee relations\, retention\, investigations and employment law compliance. Tammy has a B.S. in Psychology from Boise State University. She also holds a SHRM-CP\, CPHR (Canada) and CIWCS (Idaho).
URL:https://www.icrmp.org/event/supervisor-training-series-part-1-coeur-dalene/
LOCATION:Coeur d’Alene Library\, 702 E Front St\, Coeur d'Alene\, ID\, 83814\, United States
CATEGORIES:Human Resources
ORGANIZER;CN="Tammy Middleton%2C Human Resources Risk Manager":MAILTO:tmiddleton@icrmp.org
END:VEVENT
BEGIN:VEVENT
DTSTART;TZID=America/Boise:20230419T100000
DTEND;TZID=America/Boise:20230419T110000
DTSTAMP:20260421T090612
CREATED:20230316T001102Z
LAST-MODIFIED:20230316T001152Z
UID:10000017-1681898400-1681902000@www.icrmp.org
SUMMARY:Spring Fever: Weed\, Pest & Mosquito Operations - Best Practices
DESCRIPTION:This webinar gives tips on getting ready for the season\, maintenance schedules\, common risks like drifts and overspray\, certification\, chemical labels and customer service.\nGuest Presenter is Adam Schroeder from Ada County.  Adam has served as Director for Ada County Weed\, Pest and Mosquito Abatement since July of 2017. Previous to his appointment\, he managed the Noxious Weeds and Invasive Species programs at the Idaho State Department of Agriculture. He has also worked as a pesticide investigator and technical writer\, and managed large-scale landscape maintenance and construction divisions. He is an International Association of Arboriculture Certified Arborist\, and holds a BA and a Technical Certificate from Boise State University. \n\n		\n			\n				\n			\n			\n		 \n		\n			Kelly has a wealth of knowledge related to all things Risk. She spent 16 years as the Ada County Risk Manager\, as well as their ADA Coordinator. She holds her Associate in Risk Management designation along with being a licensed adjuster in Idaho. Kelly is well versed in both property and liability insurance risks\, along with an expert at workers compensation.
URL:https://www.icrmp.org/event/spring-fever-weed-pest-mosquito-operations-best-practices/
LOCATION:Webinar
CATEGORIES:Facilities Management,Weed/Pest/Mosquito
ORGANIZER;CN="Kelly Paananen%2C Director of Risk Management":MAILTO:kellyp@icrmp.org
END:VEVENT
BEGIN:VEVENT
DTSTART;TZID=America/Boise:20230420T150000
DTEND;TZID=America/Boise:20230420T160000
DTSTAMP:20260421T090613
CREATED:20230316T002804Z
LAST-MODIFIED:20230418T165845Z
UID:10000018-1682002800-1682006400@www.icrmp.org
SUMMARY:Respectful Workplace Webinar
DESCRIPTION:Respectful workplace dives into discrimination\, harassment and retaliation to teach you what they look like in the workplace\, how to avoid them and what to do when you witness or are confronted with them.\nFlyer Information \n\n		\n			\n				\n			\n			\n		 \n		\n			Tammy has expertise in human resources strategies\, talent acquisition\, employee performance management\, training and development\, records management\, safety and health\, succession planning\, employee relations\, retention\, investigations and employment law compliance. Tammy has a B.S. in Psychology from Boise State University. She also holds a SHRM-CP\, CPHR (Canada) and CIWCS (Idaho).
URL:https://www.icrmp.org/event/respectful-workplace-webinar-4/
LOCATION:Webinar
CATEGORIES:Human Resources
ORGANIZER;CN="Tammy Middleton%2C Human Resources Risk Manager":MAILTO:tmiddleton@icrmp.org
END:VEVENT
BEGIN:VEVENT
DTSTART;TZID=America/Boise:20230421T100000
DTEND;TZID=America/Boise:20230421T120000
DTSTAMP:20260421T090613
CREATED:20230413T175054Z
LAST-MODIFIED:20230413T175054Z
UID:10000052-1682071200-1682078400@www.icrmp.org
SUMMARY:High Risk Patrol Procedures/Vehicle Operations
DESCRIPTION:Detailed Course Information: Link \nThis course is open to all sworn Patrol personnel in both Sheriff’s Offices and Police Departments. \nAttendees can expect a classroom discussion training\, where problem solving\, and decision making will be discussed. Responding to calls\, balancing of use of force authorization with case laws surrounding pursuits and lethal force justifications will be presented. Federal legal updates for 2022 will be given\, and your policy guidelines will be compared. The following will be specifically discussed: \nCivil Liability                                    Graham v Conner \nSuspect Seizure                               Brandin v California \nDeliberate Indifference                Qualified Immunity \nPlumhoff v Rickard                        McRaven v Sanders \nIdaho Code                                     Summary Judgement \nThis course has been approved for 2 hours of POST training credit. \n\n		\n			\n				\n			\n			\n		 \n		\n			Chad served 23 years in Idaho law enforcement. As a commander\, he achieved Advanced Patrol and Level III Detention certificates. At ICRMP\, Chad trains law enforcement personnel with the highest level POST-certified training available to law enforcement and offers 30 state-wide certified classes. He also assists agencies in developing their own certified training departments.
URL:https://www.icrmp.org/event/high-risk-patrol-procedures-vehicle-operations/
LOCATION:Idaho County Sheriff’s Office\, 320 W Main St\, Grangeville\, ID\, 83530\, United States
CATEGORIES:Law Enforcement
ORGANIZER;CN="Chad Sarmento%2C Law Enforcement Risk Manager":MAILTO:csarmento@icrmp.org
END:VEVENT
BEGIN:VEVENT
DTSTART;VALUE=DATE:20230424
DTEND;VALUE=DATE:20230429
DTSTAMP:20260421T090613
CREATED:20230316T003317Z
LAST-MODIFIED:20230316T003317Z
UID:10000019-1682294400-1682726399@www.icrmp.org
SUMMARY:Executive Law Enforcement Leadership School (LE800)
DESCRIPTION:Detailed Course Information: Link \nThis course is open to all sworn or non-sworn Command Level Supervisors\, or above\, in any division of Law Enforcement or related public service agency personnel. The POST certified course has received EXCELLENT reviews from those who have attended it!! Presented through a combination of classroom lecture and practical exercises\, this 5-day course will provide students with principles and techniques that will help them become successful supervisors. Topics will include: \n\nManagement Styles\nTeamwork\nMotivating Employees\nCoaching Employees\nProblem Employees\nConflict Management\nPerformance Evaluations\nEmployee Discipline\nCivil Liability\nFMLA/ADA Issues\n\nThis course has been approved for 40 hours of POST training credit. \n\n		\n			\n				\n			\n			\n		 \n		\n			Chad served 23 years in Idaho law enforcement. As a commander\, he achieved Advanced Patrol and Level III Detention certificates. At ICRMP\, Chad trains law enforcement personnel with the highest level POST-certified training available to law enforcement and offers 30 state-wide certified classes. He also assists agencies in developing their own certified training departments.
URL:https://www.icrmp.org/event/executive-law-enforcement-leadership-school-le800/
LOCATION:Blackfoot Police Department\, 501 N. Maple Street\, Blackfoot\, ID\, 83221\, United States
CATEGORIES:Law Enforcement
ORGANIZER;CN="Chad Sarmento%2C Law Enforcement Risk Manager":MAILTO:csarmento@icrmp.org
END:VEVENT
BEGIN:VEVENT
DTSTART;TZID=America/Boise:20230425T090000
DTEND;TZID=America/Boise:20230425T153000
DTSTAMP:20260421T090613
CREATED:20230316T003634Z
LAST-MODIFIED:20230418T174759Z
UID:10000020-1682413200-1682436600@www.icrmp.org
SUMMARY:Supervisor Training Series Part 1-Rexburg
DESCRIPTION:Course Information \n	\n	\n\n		\n			\n				\n			\n			\n		 \n		\n			Tammy has expertise in human resources strategies\, talent acquisition\, employee performance management\, training and development\, records management\, safety and health\, succession planning\, employee relations\, retention\, investigations and employment law compliance. Tammy has a B.S. in Psychology from Boise State University. She also holds a SHRM-CP\, CPHR (Canada) and CIWCS (Idaho).
URL:https://www.icrmp.org/event/supervisor-training-series-part-1-rexburg/
LOCATION:Rexburg City Hall\, 35 N 1st E\, Rexburg\, ID\, 83440\, United States
CATEGORIES:Human Resources
ORGANIZER;CN="Tammy Middleton%2C Human Resources Risk Manager":MAILTO:tmiddleton@icrmp.org
END:VEVENT
BEGIN:VEVENT
DTSTART;TZID=America/Boise:20230426T090000
DTEND;TZID=America/Boise:20230426T153000
DTSTAMP:20260421T090613
CREATED:20230316T003918Z
LAST-MODIFIED:20230418T174915Z
UID:10000021-1682499600-1682523000@www.icrmp.org
SUMMARY:Supervisor Training Series Part 1-Chubbuck
DESCRIPTION:Course Information \n	\n	\n\n		\n			\n				\n			\n			\n		 \n		\n			Tammy has expertise in human resources strategies\, talent acquisition\, employee performance management\, training and development\, records management\, safety and health\, succession planning\, employee relations\, retention\, investigations and employment law compliance. Tammy has a B.S. in Psychology from Boise State University. She also holds a SHRM-CP\, CPHR (Canada) and CIWCS (Idaho).
URL:https://www.icrmp.org/event/supervisor-training-series-part-1-chubbuck/
LOCATION:Chubbuck City Hall\, 290 East Linden\, Chubbuck\, ID\, 83202\, United States
CATEGORIES:Human Resources
ORGANIZER;CN="Tammy Middleton%2C Human Resources Risk Manager":MAILTO:tmiddleton@icrmp.org
END:VEVENT
END:VCALENDAR