BEGIN:VCALENDAR
VERSION:2.0
PRODID:-//Idaho Counties Risk Management Program - ECPv6.15.18//NONSGML v1.0//EN
CALSCALE:GREGORIAN
METHOD:PUBLISH
X-ORIGINAL-URL:https://www.icrmp.org
X-WR-CALDESC:Events for Idaho Counties Risk Management Program
REFRESH-INTERVAL;VALUE=DURATION:PT1H
X-Robots-Tag:noindex
X-PUBLISHED-TTL:PT1H
BEGIN:VTIMEZONE
TZID:America/Boise
BEGIN:DAYLIGHT
TZOFFSETFROM:-0700
TZOFFSETTO:-0600
TZNAME:MDT
DTSTART:20220313T090000
END:DAYLIGHT
BEGIN:STANDARD
TZOFFSETFROM:-0600
TZOFFSETTO:-0700
TZNAME:MST
DTSTART:20221106T080000
END:STANDARD
BEGIN:DAYLIGHT
TZOFFSETFROM:-0700
TZOFFSETTO:-0600
TZNAME:MDT
DTSTART:20230312T090000
END:DAYLIGHT
BEGIN:STANDARD
TZOFFSETFROM:-0600
TZOFFSETTO:-0700
TZNAME:MST
DTSTART:20231105T080000
END:STANDARD
BEGIN:DAYLIGHT
TZOFFSETFROM:-0700
TZOFFSETTO:-0600
TZNAME:MDT
DTSTART:20240310T090000
END:DAYLIGHT
BEGIN:STANDARD
TZOFFSETFROM:-0600
TZOFFSETTO:-0700
TZNAME:MST
DTSTART:20241103T080000
END:STANDARD
END:VTIMEZONE
BEGIN:VEVENT
DTSTART;TZID=America/Boise:20230222T000000
DTEND;TZID=America/Boise:20230222T235900
DTSTAMP:20260421T115317
CREATED:20230221T214133Z
LAST-MODIFIED:20230321T191645Z
UID:10000001-1677024000-1677110340@www.icrmp.org
SUMMARY:Advanced  Supervisor Workshop - Boise
DESCRIPTION:Location: Boise\, ICRMP\nBuilding\, Basement Room\, 3100 Vista Ave \nCourse Information\nConference Schedule
URL:https://www.icrmp.org/event/test-event-data/
LOCATION:ID
CATEGORIES:Human Resources
END:VEVENT
BEGIN:VEVENT
DTSTART;TZID=America/Boise:20230222T100000
DTEND;TZID=America/Boise:20230222T110000
DTSTAMP:20260421T115317
CREATED:20230222T232506Z
LAST-MODIFIED:20230418T155935Z
UID:10000002-1677060000-1677063600@www.icrmp.org
SUMMARY:Respectful Workplace Webinar
DESCRIPTION:Respectful workplace dives into discrimination\, harassment and retaliation to teach you what they look like in the workplace\, how to avoid them and what to do when you witness or are confronted with them.\n\n		\n			\n				\n			\n			\n		 \n		\n			Tammy has expertise in human resources strategies\, talent acquisition\, employee performance management\, training and development\, records management\, safety and health\, succession planning\, employee relations\, retention\, investigations and employment law compliance. Tammy has a B.S. in Psychology from Boise State University. She also holds a SHRM-CP\, CPHR (Canada) and CIWCS (Idaho).
URL:https://www.icrmp.org/event/respectful-workplace-webinar/
LOCATION:Webinar
CATEGORIES:Human Resources
ATTACH;FMTTYPE=image/png:https://www.icrmp.org/wp-content/uploads/2023/03/Tammy-Headshot-16-x-9-Close-up.png
ORGANIZER;CN="Tammy Middleton%2C Human Resources Risk Manager":MAILTO:tmiddleton@icrmp.org
END:VEVENT
END:VCALENDAR