BEGIN:VCALENDAR
VERSION:2.0
PRODID:-//Idaho Counties Risk Management Program - ECPv6.15.18//NONSGML v1.0//EN
CALSCALE:GREGORIAN
METHOD:PUBLISH
X-WR-CALNAME:Idaho Counties Risk Management Program
X-ORIGINAL-URL:https://www.icrmp.org
X-WR-CALDESC:Events for Idaho Counties Risk Management Program
REFRESH-INTERVAL;VALUE=DURATION:PT1H
X-Robots-Tag:noindex
X-PUBLISHED-TTL:PT1H
BEGIN:VTIMEZONE
TZID:America/Boise
BEGIN:DAYLIGHT
TZOFFSETFROM:-0700
TZOFFSETTO:-0600
TZNAME:MDT
DTSTART:20250309T090000
END:DAYLIGHT
BEGIN:STANDARD
TZOFFSETFROM:-0600
TZOFFSETTO:-0700
TZNAME:MST
DTSTART:20251102T080000
END:STANDARD
BEGIN:DAYLIGHT
TZOFFSETFROM:-0700
TZOFFSETTO:-0600
TZNAME:MDT
DTSTART:20260308T090000
END:DAYLIGHT
BEGIN:STANDARD
TZOFFSETFROM:-0600
TZOFFSETTO:-0700
TZNAME:MST
DTSTART:20261101T080000
END:STANDARD
BEGIN:DAYLIGHT
TZOFFSETFROM:-0700
TZOFFSETTO:-0600
TZNAME:MDT
DTSTART:20270314T090000
END:DAYLIGHT
BEGIN:STANDARD
TZOFFSETFROM:-0600
TZOFFSETTO:-0700
TZNAME:MST
DTSTART:20271107T080000
END:STANDARD
END:VTIMEZONE
BEGIN:VEVENT
DTSTART;TZID=America/Boise:20260304T100000
DTEND;TZID=America/Boise:20260304T110000
DTSTAMP:20260421T021516
CREATED:20260209T225641Z
LAST-MODIFIED:20260210T163954Z
UID:10000539-1772618400-1772622000@www.icrmp.org
SUMMARY:Webinar - From Request to Resolution: ADA\, PWFA & FMLA
DESCRIPTION:From Request to Resolution: ADA\, PWFA & FMLA Webinar \nDescription: This scenario‑driven session walks step‑by‑step through what to do the day an employee asks for help – from intake to resolution. Using common public‑sector examples\, we’ll cover: identifying which law(s) apply; verifying eligibility; gathering only the medical information you truly need; coordinating ADA accommodations and FMLA leave; addressing PWFA obligations for pregnancy‑related limitations; and documenting decisions that stand up to scrutiny. You’ll leave with a practical framework for consistent\, compassionate\, and defensible outcomes – plus language you can use in real conversations with employees and department heads. \nBring your questions! We will wrap up with a live Q&A session. \nIntended Audience – Elected Officials\, Managers and Supervisors \nFlyer Information \nClick Here to Register \n\n		\n			\n				\n		\n			\n			\n		\n		\n			Jessica has dedicated nearly fifteen years to defending Idaho public entities and advising employers on risk management and legal compliance. She has served as employment defense counsel for major Idaho employers and public sector clients\, including as Senior Attorney Adviser for the U.S. Department of the Interior\, where she led litigation and policy development for the Department’s 70\,000 employees. Jessica’s expertise spans employment law\, workplace investigations\, insurance coverage\, regulatory compliance\, and strategic risk assessment. She is committed to safeguarding public entities through practical legal counsel and innovative solutions.
URL:https://www.icrmp.org/event/webinar-from-request-to-resolution-ada-pwfa-fmla/
LOCATION:Webinar
CATEGORIES:Human Resources,Risk Management
ORGANIZER;CN="Jessica Pollack%2C Risk Management Legal Counsel":MAILTO:jpollack@icrmp.org
END:VEVENT
BEGIN:VEVENT
DTSTART;TZID=America/Boise:20260305T100000
DTEND;TZID=America/Boise:20260305T110000
DTSTAMP:20260421T021516
CREATED:20260108T162258Z
LAST-MODIFIED:20260108T162258Z
UID:10000505-1772704800-1772708400@www.icrmp.org
SUMMARY:The Art of Coaching - Supervisor Training Series
DESCRIPTION:Welcome to the Supervisor Training Series (Webinar Edition)\nElevate Your Leadership!\nAre you a frontline supervisor or new to supervision? The STS is your opportunity to gain essential skills\, avoid costly mistakes\, and build confidence as a leader. This series features 9 dynamic classes designed to give you foundational knowledge of basic supervisory tasks\, practical tools\, processes\, and awareness of supervising employees. \nThe Art of Coaching – This is #5 of 9 in the Supervisor Training Series \nFlyer and Course Information \nPlease carefully review the class schedule to ensure your availability before enrolling.  \n\n Employee Lifecycles\nThis class is an overview of hire to termination and the basic processes that supervisors need to understand including a review of employment laws\, hiring processes and basic employment practices. (Class run time: 1 hour)\n Documentation Basics for Supervisors\nThis class is an overview of the types of documentation required for employment practices and provides training on how to document effectively. Covers storage and security for employee documentation. We will review how documentation supports the\norganization in the event of litigation. (Class run time: 1 hour)\n Supervisor 101\nThis class provides basic supervisory skills including communication\, supervising different types of employees\, and foundation skills for what supervisors can delegate and what they should keep responsibility for doing. (Class Run time: 1 hour)\n How to Conduct a Legal Interview\nThis class covers basic interview strategies and tactics. We will also discuss what is lawful and unlawful to ask during an interview and go over the types of questions that may lead to problematic interviews. (Class run time: 1 hour)\n The Art of Coaching\nThis class explains what coaching is and its purpose in the organization for employee development and accountability. This class includes examples of effective coaching documentation. (Class run time 1 hour)\n Performance Management\nThis class discusses the importance of managing employees’ performances and provides an overview of tools to support employee development and accountability for their work. (Class run time 1 hour)\n Performance Evaluation Process\nThis class will go over the basics of writing employee reviews\, communication plans and understanding bias. We will discuss how to write effective and factual reviews that support employee development. (Class run time: 1 hour)\n Disciplinary Action\nThis class covers the importance and purpose of discipline. Supervisors will learn how to effectively use disciplinary action to improve performance and work product. We will cover the importance of well written effective disciplinary action in termination and litigation. (Class run time 1 hour)\n Termination Prep\nThis class will teach supervisors how to effectively prepare for terminations\, how to critically review documentation\, and how to have a termination conversation. (Class run time 1 hour)\n\nImportant Notice: Limited Enrollment Webinar Series \nRegister Here \n\n		\n			\n				\n			\n			\n		\n		\n			Tammy has expertise in human resources strategies\, talent acquisition\, employee performance management\, training and development\, records management\, safety and health\, succession planning\, employee relations\, retention\, investigations and employment law compliance. Tammy has a B.S. in Psychology from Boise State University. She also holds a SHRM-CP\, CPHR (Canada) and CIWCS (Idaho).
URL:https://www.icrmp.org/event/the-art-of-coaching-supervisor-training-series-2/
LOCATION:Webinar
CATEGORIES:Human Resources,Risk Management
ORGANIZER;CN="Tammy Middleton%2C Human Resources Risk Manager":MAILTO:tmiddleton@icrmp.org
END:VEVENT
BEGIN:VEVENT
DTSTART;TZID=America/Boise:20260312T100000
DTEND;TZID=America/Boise:20260312T110000
DTSTAMP:20260421T021516
CREATED:20260108T162426Z
LAST-MODIFIED:20260108T162426Z
UID:10000506-1773309600-1773313200@www.icrmp.org
SUMMARY:Performance Management - Supervisor Training Series
DESCRIPTION:Welcome to the Supervisor Training Series (Webinar Edition)\nElevate Your Leadership!\nAre you a frontline supervisor or new to supervision? The STS is your opportunity to gain essential skills\, avoid costly mistakes\, and build confidence as a leader. This series features 9 dynamic classes designed to give you foundational knowledge of basic supervisory tasks\, practical tools\, processes\, and awareness of supervising employees. \nPerformance Management – This is #6 of 9 in the Supervisor Training Series \nFlyer and Course Information \nPlease carefully review the class schedule to ensure your availability before enrolling.  \n\n Employee Lifecycles\nThis class is an overview of hire to termination and the basic processes that supervisors need to understand including a review of employment laws\, hiring processes and basic employment practices. (Class run time: 1 hour)\n Documentation Basics for Supervisors\nThis class is an overview of the types of documentation required for employment practices and provides training on how to document effectively. Covers storage and security for employee documentation. We will review how documentation supports the\norganization in the event of litigation. (Class run time: 1 hour)\n Supervisor 101\nThis class provides basic supervisory skills including communication\, supervising different types of employees\, and foundation skills for what supervisors can delegate and what they should keep responsibility for doing. (Class Run time: 1 hour)\n How to Conduct a Legal Interview\nThis class covers basic interview strategies and tactics. We will also discuss what is lawful and unlawful to ask during an interview and go over the types of questions that may lead to problematic interviews. (Class run time: 1 hour)\n The Art of Coaching\nThis class explains what coaching is and its purpose in the organization for employee development and accountability. This class includes examples of effective coaching documentation. (Class run time 1 hour)\n Performance Management\nThis class discusses the importance of managing employees’ performances and provides an overview of tools to support employee development and accountability for their work. (Class run time 1 hour)\n Performance Evaluation Process\nThis class will go over the basics of writing employee reviews\, communication plans and understanding bias. We will discuss how to write effective and factual reviews that support employee development. (Class run time: 1 hour)\n Disciplinary Action\nThis class covers the importance and purpose of discipline. Supervisors will learn how to effectively use disciplinary action to improve performance and work product. We will cover the importance of well written effective disciplinary action in termination and litigation. (Class run time 1 hour)\n Termination Prep\nThis class will teach supervisors how to effectively prepare for terminations\, how to critically review documentation\, and how to have a termination conversation. (Class run time 1 hour)\n\nImportant Notice: Limited Enrollment Webinar Series \nRegister Here \n\n		\n			\n				\n			\n			\n		\n		\n			Tammy has expertise in human resources strategies\, talent acquisition\, employee performance management\, training and development\, records management\, safety and health\, succession planning\, employee relations\, retention\, investigations and employment law compliance. Tammy has a B.S. in Psychology from Boise State University. She also holds a SHRM-CP\, CPHR (Canada) and CIWCS (Idaho).
URL:https://www.icrmp.org/event/performance-management-supervisor-training-series-2/
LOCATION:Webinar
CATEGORIES:Human Resources,Risk Management
ORGANIZER;CN="Tammy Middleton%2C Human Resources Risk Manager":MAILTO:tmiddleton@icrmp.org
END:VEVENT
BEGIN:VEVENT
DTSTART;TZID=America/Boise:20260318T150000
DTEND;TZID=America/Boise:20260318T160000
DTSTAMP:20260421T021516
CREATED:20260109T183743Z
LAST-MODIFIED:20260109T183743Z
UID:10000511-1773846000-1773849600@www.icrmp.org
SUMMARY:Respectful Workplace Webinar
DESCRIPTION:Join us for our Respectful Workplace webinar\, where we dive into essential training for every employee! This engaging session covers everything you need to know about your legal rights at work\, fostering a culture of civility\, and safeguarding against harassment\, discrimination\, and retaliation. Let’s create a workplace where everyone feels valued and respected! \nParticipate in interactive scenarios to check your knowledge and understanding. Bring your questions! We will wrap up with a live Q&A session. \nFlyer Information \nRegister Here \n\n		\n			\n				\n			\n			\n		\n		\n			Tammy has expertise in human resources strategies\, talent acquisition\, employee performance management\, training and development\, records management\, safety and health\, succession planning\, employee relations\, retention\, investigations and employment law compliance. Tammy has a B.S. in Psychology from Boise State University. She also holds a SHRM-CP\, CPHR (Canada) and CIWCS (Idaho).
URL:https://www.icrmp.org/event/respectful-workplace-webinar-40/
LOCATION:Webinar
CATEGORIES:Human Resources,Risk Management
ORGANIZER;CN="Tammy Middleton%2C Human Resources Risk Manager":MAILTO:tmiddleton@icrmp.org
END:VEVENT
BEGIN:VEVENT
DTSTART;TZID=America/Boise:20260319T100000
DTEND;TZID=America/Boise:20260319T110000
DTSTAMP:20260421T021516
CREATED:20260108T162536Z
LAST-MODIFIED:20260108T162536Z
UID:10000507-1773914400-1773918000@www.icrmp.org
SUMMARY:Performance Evaluation Process - Supervisor Training Series
DESCRIPTION:Welcome to the Supervisor Training Series (Webinar Edition)\nElevate Your Leadership!\nAre you a frontline supervisor or new to supervision? The STS is your opportunity to gain essential skills\, avoid costly mistakes\, and build confidence as a leader. This series features 9 dynamic classes designed to give you foundational knowledge of basic supervisory tasks\, practical tools\, processes\, and awareness of supervising employees. \nPerformance Evaluation Process – This is #7 of 9 in the Supervisor Training Series \nFlyer and Course Information \nPlease carefully review the class schedule to ensure your availability before enrolling.  \n\n Employee Lifecycles\nThis class is an overview of hire to termination and the basic processes that supervisors need to understand including a review of employment laws\, hiring processes and basic employment practices. (Class run time: 1 hour)\n Documentation Basics for Supervisors\nThis class is an overview of the types of documentation required for employment practices and provides training on how to document effectively. Covers storage and security for employee documentation. We will review how documentation supports the\norganization in the event of litigation. (Class run time: 1 hour)\n Supervisor 101\nThis class provides basic supervisory skills including communication\, supervising different types of employees\, and foundation skills for what supervisors can delegate and what they should keep responsibility for doing. (Class Run time: 1 hour)\n How to Conduct a Legal Interview\nThis class covers basic interview strategies and tactics. We will also discuss what is lawful and unlawful to ask during an interview and go over the types of questions that may lead to problematic interviews. (Class run time: 1 hour)\n The Art of Coaching\nThis class explains what coaching is and its purpose in the organization for employee development and accountability. This class includes examples of effective coaching documentation. (Class run time 1 hour)\n Performance Management\nThis class discusses the importance of managing employees’ performances and provides an overview of tools to support employee development and accountability for their work. (Class run time 1 hour)\n Performance Evaluation Process\nThis class will go over the basics of writing employee reviews\, communication plans and understanding bias. We will discuss how to write effective and factual reviews that support employee development. (Class run time: 1 hour)\n Disciplinary Action\nThis class covers the importance and purpose of discipline. Supervisors will learn how to effectively use disciplinary action to improve performance and work product. We will cover the importance of well written effective disciplinary action in termination and litigation. (Class run time 1 hour)\n Termination Prep\nThis class will teach supervisors how to effectively prepare for terminations\, how to critically review documentation\, and how to have a termination conversation. (Class run time 1 hour)\n\nImportant Notice: Limited Enrollment Webinar Series \nRegister Here \n\n		\n			\n				\n			\n			\n		\n		\n			Tammy has expertise in human resources strategies\, talent acquisition\, employee performance management\, training and development\, records management\, safety and health\, succession planning\, employee relations\, retention\, investigations and employment law compliance. Tammy has a B.S. in Psychology from Boise State University. She also holds a SHRM-CP\, CPHR (Canada) and CIWCS (Idaho).
URL:https://www.icrmp.org/event/performance-evaluation-process-supervisor-training-series/
LOCATION:Webinar
CATEGORIES:Human Resources,Risk Management
ORGANIZER;CN="Tammy Middleton%2C Human Resources Risk Manager":MAILTO:tmiddleton@icrmp.org
END:VEVENT
BEGIN:VEVENT
DTSTART;TZID=America/Boise:20260326T100000
DTEND;TZID=America/Boise:20260326T110000
DTSTAMP:20260421T021516
CREATED:20260108T162653Z
LAST-MODIFIED:20260108T162653Z
UID:10000508-1774519200-1774522800@www.icrmp.org
SUMMARY:Disciplinary Action - Supervisor Training Series
DESCRIPTION:Welcome to the Supervisor Training Series (Webinar Edition)\nElevate Your Leadership!\nAre you a frontline supervisor or new to supervision? The STS is your opportunity to gain essential skills\, avoid costly mistakes\, and build confidence as a leader. This series features 9 dynamic classes designed to give you foundational knowledge of basic supervisory tasks\, practical tools\, processes\, and awareness of supervising employees. \nDisciplinary Action – This is #8 of 9 in the Supervisor Training Series \nFlyer and Course Information \nPlease carefully review the class schedule to ensure your availability before enrolling.  \n\n Employee Lifecycles\nThis class is an overview of hire to termination and the basic processes that supervisors need to understand including a review of employment laws\, hiring processes and basic employment practices. (Class run time: 1 hour)\n Documentation Basics for Supervisors\nThis class is an overview of the types of documentation required for employment practices and provides training on how to document effectively. Covers storage and security for employee documentation. We will review how documentation supports the\norganization in the event of litigation. (Class run time: 1 hour)\n Supervisor 101\nThis class provides basic supervisory skills including communication\, supervising different types of employees\, and foundation skills for what supervisors can delegate and what they should keep responsibility for doing. (Class Run time: 1 hour)\n How to Conduct a Legal Interview\nThis class covers basic interview strategies and tactics. We will also discuss what is lawful and unlawful to ask during an interview and go over the types of questions that may lead to problematic interviews. (Class run time: 1 hour)\n The Art of Coaching\nThis class explains what coaching is and its purpose in the organization for employee development and accountability. This class includes examples of effective coaching documentation. (Class run time 1 hour)\n Performance Management\nThis class discusses the importance of managing employees’ performances and provides an overview of tools to support employee development and accountability for their work. (Class run time 1 hour)\n Performance Evaluation Process\nThis class will go over the basics of writing employee reviews\, communication plans and understanding bias. We will discuss how to write effective and factual reviews that support employee development. (Class run time: 1 hour)\n Disciplinary Action\nThis class covers the importance and purpose of discipline. Supervisors will learn how to effectively use disciplinary action to improve performance and work product. We will cover the importance of well written effective disciplinary action in termination and litigation. (Class run time 1 hour)\n Termination Prep\nThis class will teach supervisors how to effectively prepare for terminations\, how to critically review documentation\, and how to have a termination conversation. (Class run time 1 hour)\n\nImportant Notice: Limited Enrollment Webinar Series \nRegister Here \n\n		\n			\n				\n			\n			\n		\n		\n			Tammy has expertise in human resources strategies\, talent acquisition\, employee performance management\, training and development\, records management\, safety and health\, succession planning\, employee relations\, retention\, investigations and employment law compliance. Tammy has a B.S. in Psychology from Boise State University. She also holds a SHRM-CP\, CPHR (Canada) and CIWCS (Idaho).
URL:https://www.icrmp.org/event/disciplinary-action-supervisor-training-series-2/
LOCATION:Webinar
CATEGORIES:Human Resources,Risk Management
ORGANIZER;CN="Tammy Middleton%2C Human Resources Risk Manager":MAILTO:tmiddleton@icrmp.org
END:VEVENT
END:VCALENDAR