BEGIN:VCALENDAR
VERSION:2.0
PRODID:-//Idaho Counties Risk Management Program - ECPv6.15.18//NONSGML v1.0//EN
CALSCALE:GREGORIAN
METHOD:PUBLISH
X-WR-CALNAME:Idaho Counties Risk Management Program
X-ORIGINAL-URL:https://www.icrmp.org
X-WR-CALDESC:Events for Idaho Counties Risk Management Program
REFRESH-INTERVAL;VALUE=DURATION:PT1H
X-Robots-Tag:noindex
X-PUBLISHED-TTL:PT1H
BEGIN:VTIMEZONE
TZID:America/Boise
BEGIN:DAYLIGHT
TZOFFSETFROM:-0700
TZOFFSETTO:-0600
TZNAME:MDT
DTSTART:20240310T090000
END:DAYLIGHT
BEGIN:STANDARD
TZOFFSETFROM:-0600
TZOFFSETTO:-0700
TZNAME:MST
DTSTART:20241103T080000
END:STANDARD
BEGIN:DAYLIGHT
TZOFFSETFROM:-0700
TZOFFSETTO:-0600
TZNAME:MDT
DTSTART:20250309T090000
END:DAYLIGHT
BEGIN:STANDARD
TZOFFSETFROM:-0600
TZOFFSETTO:-0700
TZNAME:MST
DTSTART:20251102T080000
END:STANDARD
BEGIN:DAYLIGHT
TZOFFSETFROM:-0700
TZOFFSETTO:-0600
TZNAME:MDT
DTSTART:20260308T090000
END:DAYLIGHT
BEGIN:STANDARD
TZOFFSETFROM:-0600
TZOFFSETTO:-0700
TZNAME:MST
DTSTART:20261101T080000
END:STANDARD
END:VTIMEZONE
BEGIN:VEVENT
DTSTART;TZID=America/Boise:20251105T100000
DTEND;TZID=America/Boise:20251105T113000
DTSTAMP:20260421T074357
CREATED:20250702T180654Z
LAST-MODIFIED:20250702T201658Z
UID:10000439-1762336800-1762342200@www.icrmp.org
SUMMARY:Performance Reviews - Supervisor Training Series
DESCRIPTION:Welcome to the Supervisor Training Series (Webinar Edition)\n7. Performance Reviews – This is #7 of 9 in the Supervisor Training Series \nBuild confident\, compliant\, and capable supervisors—right from the start \nThis engaging webinar series includes 9 individual classes\, grouped into 3 themed parts\, and is designed for new or aspiring frontline supervisors. Sessions include expert instruction with interactive breakout rooms\, live polls\, and scenario-based discussions to build real-world supervisory skills in a supportive\, feedback-rich environment. \nFlyer and Course Information \nPlease carefully review the class schedule to ensure your availability for all 9 sessions before enrolling.  \nPart 1: Foundations of Supervision \n\n Employee Lifecycles\nUnderstand the full employee journey—from hiring to termination. This webinar is an overview of employment laws\, key components of hiring\, performance management\, and terminations. We will discuss legal responsibilities\, employment laws\, and discuss pitfalls to avoid. (Class run time: 1 hour)\n Documentation\nLearn how to create clear\, defensible documentation that supports performance management and reduces legal risk. Participants review examples and identify red flags in breakout sessions. (Class run time: 1 hour)\n Supervisor 101\nExplore essential supervisory duties like delegation and managing peer relationships. Breakout discussions focus on early-career challenges and practical solutions. (Class Run time 1.5 hours)\n\nPart 2: Core Skills \n\n The Art of Coaching\nExplore the power and purpose behind coaching conversations. We will discuss how to structure coaching conversations\, give feedback\, and document interactions effectively. (Class run time: 1.5 hours)\n Legal Interviewing\nLearn how to conduct interviews that are both effective and compliant. We will explore interview questions that are effective and the type of questions that are not effective. Students will learn the STAR method for asking behavioral questions. (Class run time 1.5 Hours)\n Performance Management\nWe will discuss the importance of performance management and get familiar with SMART plans and performance improvement plans (PIPs). Breakout groups will build and critique performance plans. (Class run time 1.5 hours)\n\nPart 3: High-Stakes Conversations \n\n Performance Reviews\nDiscover how to write and deliver reviews that are fair\, motivating\, and legally sound. We will cover some do’s and don’t when writing reviews. Students will have an opportunity to review performance review processes and communication plans. (Class run time: 1.5 hours)\n Disciplinary Action\nUnderstand when and how to take disciplinary action. Learn how to write effective documentation and deliver messages clearly and professionally. (Class run time 1.5 hours)\n Termination Prep\nNavigate the risks and legal considerations of employee terminations. We will take a deeper look into the steps and documents needed to reduce litigation risk when terminating employees. Students will learn how to set up and deliver terminations. (Class run time 1.5 hours)\n\nImportant Notice: Limited Enrollment Webinar Series \nPlease carefully review the class schedule to ensure your availability for all 9 sessions before enrolling. \nRegister Here \n\n		\n			\n				\n			\n			\n		 \n		\n			Tammy has expertise in human resources strategies\, talent acquisition\, employee performance management\, training and development\, records management\, safety and health\, succession planning\, employee relations\, retention\, investigations and employment law compliance. Tammy has a B.S. in Psychology from Boise State University. She also holds a SHRM-CP\, CPHR (Canada) and CIWCS (Idaho).\n		\n			\n		\n[/et_pb_text][/et_pb_column][/et_pb_row][/et_pb_section]
URL:https://www.icrmp.org/event/performance-reviews-supervisor-training-series/
LOCATION:Webinar
CATEGORIES:Human Resources,Risk Management
ORGANIZER;CN="Tammy Middleton - Human Resources Risk Manager":MAILTO:tmiddleton@icrmp.org
END:VEVENT
BEGIN:VEVENT
DTSTART;TZID=America/Boise:20251119T100000
DTEND;TZID=America/Boise:20251119T113000
DTSTAMP:20260421T074357
CREATED:20250702T180758Z
LAST-MODIFIED:20250702T201754Z
UID:10000440-1763546400-1763551800@www.icrmp.org
SUMMARY:Disciplinary Action - Supervisor Training Series
DESCRIPTION:Welcome to the Supervisor Training Series (Webinar Edition)\n8. Disciplinary Action – This is #8 of 9 in the Supervisor Training Series \nBuild confident\, compliant\, and capable supervisors—right from the start \nThis engaging webinar series includes 9 individual classes\, grouped into 3 themed parts\, and is designed for new or aspiring frontline supervisors. Sessions include expert instruction with interactive breakout rooms\, live polls\, and scenario-based discussions to build real-world supervisory skills in a supportive\, feedback-rich environment. \nFlyer and Course Information \nPlease carefully review the class schedule to ensure your availability for all 9 sessions before enrolling.  \nPart 1: Foundations of Supervision \n\n Employee Lifecycles\nUnderstand the full employee journey—from hiring to termination. This webinar is an overview of employment laws\, key components of hiring\, performance management\, and terminations. We will discuss legal responsibilities\, employment laws\, and discuss pitfalls to avoid. (Class run time: 1 hour)\n Documentation\nLearn how to create clear\, defensible documentation that supports performance management and reduces legal risk. Participants review examples and identify red flags in breakout sessions. (Class run time: 1 hour)\n Supervisor 101\nExplore essential supervisory duties like delegation and managing peer relationships. Breakout discussions focus on early-career challenges and practical solutions. (Class Run time 1.5 hours)\n\nPart 2: Core Skills \n\n The Art of Coaching\nExplore the power and purpose behind coaching conversations. We will discuss how to structure coaching conversations\, give feedback\, and document interactions effectively. (Class run time: 1.5 hours)\n Legal Interviewing\nLearn how to conduct interviews that are both effective and compliant. We will explore interview questions that are effective and the type of questions that are not effective. Students will learn the STAR method for asking behavioral questions. (Class run time 1.5 Hours)\n Performance Management\nWe will discuss the importance of performance management and get familiar with SMART plans and performance improvement plans (PIPs). Breakout groups will build and critique performance plans. (Class run time 1.5 hours)\n\nPart 3: High-Stakes Conversations \n\n Performance Reviews\nDiscover how to write and deliver reviews that are fair\, motivating\, and legally sound. We will cover some do’s and don’t when writing reviews. Students will have an opportunity to review performance review processes and communication plans. (Class run time: 1.5 hours)\n Disciplinary Action\nUnderstand when and how to take disciplinary action. Learn how to write effective documentation and deliver messages clearly and professionally. (Class run time 1.5 hours)\n Termination Prep\nNavigate the risks and legal considerations of employee terminations. We will take a deeper look into the steps and documents needed to reduce litigation risk when terminating employees. Students will learn how to set up and deliver terminations. (Class run time 1.5 hours)\n\nImportant Notice: Limited Enrollment Webinar Series \nPlease carefully review the class schedule to ensure your availability for all 9 sessions before enrolling. \nRegister Here \n\n		\n			\n				\n			\n			\n		 \n		\n			Tammy has expertise in human resources strategies\, talent acquisition\, employee performance management\, training and development\, records management\, safety and health\, succession planning\, employee relations\, retention\, investigations and employment law compliance. Tammy has a B.S. in Psychology from Boise State University. She also holds a SHRM-CP\, CPHR (Canada) and CIWCS (Idaho).\n		\n			\n		\n[/et_pb_text][/et_pb_column][/et_pb_row][/et_pb_section]
URL:https://www.icrmp.org/event/disciplinary-action-supervisor-training-series/
LOCATION:Webinar
CATEGORIES:Human Resources,Risk Management
ORGANIZER;CN="Tammy Middleton - Human Resources Risk Manager":MAILTO:tmiddleton@icrmp.org
END:VEVENT
BEGIN:VEVENT
DTSTART;TZID=America/Boise:20251119T140000
DTEND;TZID=America/Boise:20251119T150000
DTSTAMP:20260421T074357
CREATED:20250903T203032Z
LAST-MODIFIED:20251029T221726Z
UID:10000476-1763560800-1763564400@www.icrmp.org
SUMMARY:Respectful Workplace Webinar
DESCRIPTION:Join us for our Respectful Workplace webinar\, where we dive into essential training for every employee! This engaging session covers everything you need to know about your legal rights at work\, fostering a culture of civility\, and safeguarding against harassment\, discrimination\, and retaliation. Let’s create a workplace where everyone feels valued and respected! \nParticipate in interactive scenarios to check your knowledge and understanding. Bring your questions! We will wrap up with a live Q&A session. \nFlyer Information \nRegister Here \n\n		\n			\n				\n			\n			\n		 \n		\n			Tammy has expertise in human resources strategies\, talent acquisition\, employee performance management\, training and development\, records management\, safety and health\, succession planning\, employee relations\, retention\, investigations and employment law compliance. Tammy has a B.S. in Psychology from Boise State University. She also holds a SHRM-CP\, CPHR (Canada) and CIWCS (Idaho).
URL:https://www.icrmp.org/event/respectful-workplace-webinar-36/
LOCATION:Webinar
CATEGORIES:Human Resources,Risk Management
ORGANIZER;CN="Tammy Middleton - Human Resources Risk Manager":MAILTO:tmiddleton@icrmp.org
END:VEVENT
END:VCALENDAR