BEGIN:VCALENDAR
VERSION:2.0
PRODID:-//Idaho Counties Risk Management Program - ECPv6.15.18//NONSGML v1.0//EN
CALSCALE:GREGORIAN
METHOD:PUBLISH
X-ORIGINAL-URL:https://www.icrmp.org
X-WR-CALDESC:Events for Idaho Counties Risk Management Program
REFRESH-INTERVAL;VALUE=DURATION:PT1H
X-Robots-Tag:noindex
X-PUBLISHED-TTL:PT1H
BEGIN:VTIMEZONE
TZID:America/Boise
BEGIN:DAYLIGHT
TZOFFSETFROM:-0700
TZOFFSETTO:-0600
TZNAME:MDT
DTSTART:20230312T090000
END:DAYLIGHT
BEGIN:STANDARD
TZOFFSETFROM:-0600
TZOFFSETTO:-0700
TZNAME:MST
DTSTART:20231105T080000
END:STANDARD
BEGIN:DAYLIGHT
TZOFFSETFROM:-0700
TZOFFSETTO:-0600
TZNAME:MDT
DTSTART:20240310T090000
END:DAYLIGHT
BEGIN:STANDARD
TZOFFSETFROM:-0600
TZOFFSETTO:-0700
TZNAME:MST
DTSTART:20241103T080000
END:STANDARD
BEGIN:DAYLIGHT
TZOFFSETFROM:-0700
TZOFFSETTO:-0600
TZNAME:MDT
DTSTART:20250309T090000
END:DAYLIGHT
BEGIN:STANDARD
TZOFFSETFROM:-0600
TZOFFSETTO:-0700
TZNAME:MST
DTSTART:20251102T080000
END:STANDARD
END:VTIMEZONE
BEGIN:VEVENT
DTSTART;TZID=America/Boise:20240909T100000
DTEND;TZID=America/Boise:20240909T110000
DTSTAMP:20260422T031154
CREATED:20240724T152913Z
LAST-MODIFIED:20240724T152913Z
UID:10000265-1725876000-1725879600@www.icrmp.org
SUMMARY:Respectful Workplace Webinar
DESCRIPTION:Respectful Workplace dives into  \n\nDiscrimination\nHarassment\nRetaliation \n\nWe will talk about what they look like in the workplace\, how to avoid them and what to do when you witness or are confronted with them. \nParticipate in interactive scenarios to check your knowledge and understanding. Get answers to general questions related to respectful workplace. Bring your questions! We will wrap up with a live Q&A session. \nFlyer Information \nClick Here to Register \n\n		\n			\n				\n			\n			\n		 \n		\n			Tammy has expertise in human resources strategies\, talent acquisition\, employee performance management\, training and development\, records management\, safety and health\, succession planning\, employee relations\, retention\, investigations and employment law compliance. Tammy has a B.S. in Psychology from Boise State University. She also holds a SHRM-CP\, CPHR (Canada) and CIWCS (Idaho).
URL:https://www.icrmp.org/event/respectful-workplace-webinar-22/
LOCATION:Webinar
CATEGORIES:Human Resources
ORGANIZER;CN="Tammy Middleton - Human Resources Risk Manager":MAILTO:tmiddleton@icrmp.org
END:VEVENT
END:VCALENDAR