BEGIN:VCALENDAR
VERSION:2.0
PRODID:-//Idaho Counties Risk Management Program - ECPv6.15.18//NONSGML v1.0//EN
CALSCALE:GREGORIAN
METHOD:PUBLISH
X-WR-CALNAME:Idaho Counties Risk Management Program
X-ORIGINAL-URL:https://www.icrmp.org
X-WR-CALDESC:Events for Idaho Counties Risk Management Program
REFRESH-INTERVAL;VALUE=DURATION:PT1H
X-Robots-Tag:noindex
X-PUBLISHED-TTL:PT1H
BEGIN:VTIMEZONE
TZID:America/Boise
BEGIN:DAYLIGHT
TZOFFSETFROM:-0700
TZOFFSETTO:-0600
TZNAME:MDT
DTSTART:20220313T090000
END:DAYLIGHT
BEGIN:STANDARD
TZOFFSETFROM:-0600
TZOFFSETTO:-0700
TZNAME:MST
DTSTART:20221106T080000
END:STANDARD
BEGIN:DAYLIGHT
TZOFFSETFROM:-0700
TZOFFSETTO:-0600
TZNAME:MDT
DTSTART:20230312T090000
END:DAYLIGHT
BEGIN:STANDARD
TZOFFSETFROM:-0600
TZOFFSETTO:-0700
TZNAME:MST
DTSTART:20231105T080000
END:STANDARD
BEGIN:DAYLIGHT
TZOFFSETFROM:-0700
TZOFFSETTO:-0600
TZNAME:MDT
DTSTART:20240310T090000
END:DAYLIGHT
BEGIN:STANDARD
TZOFFSETFROM:-0600
TZOFFSETTO:-0700
TZNAME:MST
DTSTART:20241103T080000
END:STANDARD
END:VTIMEZONE
BEGIN:VEVENT
DTSTART;TZID=America/Boise:20231012T100000
DTEND;TZID=America/Boise:20231012T103000
DTSTAMP:20260422T184058
CREATED:20230914T211623Z
LAST-MODIFIED:20231011T182407Z
UID:10000107-1697104800-1697106600@www.icrmp.org
SUMMARY:Diversity Equity and Inclusion Webinar
DESCRIPTION:It’s never been more important to build a supportive and inclusive workplace culture. Explore what Diversity\, Equity\, and Inclusion mean for you and your organization. \nThis session is open to all ICRMP members. \nFlyer Information \nClick Here to Register \n\n		\n			\n				\n			\n			\n		 \n		\n			Tammy has expertise in human resources strategies\, talent acquisition\, employee performance management\, training and development\, records management\, safety and health\, succession planning\, employee relations\, retention\, investigations and employment law compliance. Tammy has a B.S. in Psychology from Boise State University. She also holds a SHRM-CP\, CPHR (Canada) and CIWCS (Idaho).\n		\n			\n		 \n			\n			\n				\n				\n				\n				\n			\n				\n				\n			\n 
URL:https://www.icrmp.org/event/diversity-equity-and-inclusion-webinar/
LOCATION:Webinar
CATEGORIES:Human Resources
ORGANIZER;CN="Tammy Middleton - Human Resources Risk Manager":MAILTO:tmiddleton@icrmp.org
END:VEVENT
BEGIN:VEVENT
DTSTART;TZID=America/Boise:20231016T100000
DTEND;TZID=America/Boise:20231016T110000
DTSTAMP:20260422T184058
CREATED:20230728T223019Z
LAST-MODIFIED:20230803T161348Z
UID:10000071-1697450400-1697454000@www.icrmp.org
SUMMARY:Respectful Workplace Webinar
DESCRIPTION:Respectful workplace dives into  \n\nDiscrimination\nHarassment\nRetaliation \n\nWe will talk about what they look like in the workplace\, how to avoid them and what to do when you witness or are confronted with them. \nParticipate in interactive scenarios to check your knowledge and understanding. Get answers to general questions related to respectful workplace. Bring your questions! We will wrap up with a live Q&A session. \nFlyer Information \nClick Here to Register \n\n		\n			\n				\n			\n			\n		 \n		\n			Tammy has expertise in human resources strategies\, talent acquisition\, employee performance management\, training and development\, records management\, safety and health\, succession planning\, employee relations\, retention\, investigations and employment law compliance. Tammy has a B.S. in Psychology from Boise State University. She also holds a SHRM-CP\, CPHR (Canada) and CIWCS (Idaho).
URL:https://www.icrmp.org/event/respectful-workplace-webinar-11/
LOCATION:Webinar
CATEGORIES:Human Resources
ORGANIZER;CN="Tammy Middleton - Human Resources Risk Manager":MAILTO:tmiddleton@icrmp.org
END:VEVENT
BEGIN:VEVENT
DTSTART;TZID=America/Boise:20231019T090000
DTEND;TZID=America/Boise:20231019T153000
DTSTAMP:20260422T184058
CREATED:20230626T211137Z
LAST-MODIFIED:20230830T175100Z
UID:10000065-1697706000-1697729400@www.icrmp.org
SUMMARY:Supervisor Training Series Part 3-Chubbuck
DESCRIPTION:Course Information \nThe Supervisor Training Series (STS) is designed for anyone who supervises people.  We will focus on the foundation skills needed as a supervisor.  The Supervisor Training Series consists of 3 parts.  Each part consists of 3 individual classes.  Classes are interactive and include hands-on practice with real employment scenarios.  \nPart 3 \n\nEmployee Reviews & Evaluations\nDisciplinary Action\nTermination Prep  \n\n\n		\n			\n				\n			\n			\n		 \n		\n			Tammy has expertise in human resources strategies\, talent acquisition\, employee performance management\, training and development\, records management\, safety and health\, succession planning\, employee relations\, retention\, investigations and employment law compliance. Tammy has a B.S. in Psychology from Boise State University. She also holds a SHRM-CP\, CPHR (Canada) and CIWCS (Idaho).\n		\n			\n		\n	\n	  
URL:https://www.icrmp.org/event/supervisor-training-series-part-3-chubbuck/
LOCATION:Chubbuck City Hall\, 290 East Linden\, Chubbuck\, ID\, 83202\, United States
CATEGORIES:Human Resources
ORGANIZER;CN="Tammy Middleton%2C Human Resources Risk Manager":MAILTO:tmiddleton@icrmp.org
END:VEVENT
BEGIN:VEVENT
DTSTART;TZID=America/Boise:20231031T090000
DTEND;TZID=America/Boise:20231031T153000
DTSTAMP:20260422T184058
CREATED:20230727T154357Z
LAST-MODIFIED:20230727T154843Z
UID:10000067-1698742800-1698766200@www.icrmp.org
SUMMARY:Supervisor Training Series Part 3 Latah-Moscow
DESCRIPTION:Course Information \nThe Supervisor Training Series (STS) is designed for anyone who supervises people.  We will focus on the foundation skills needed as a supervisor.  The Supervisor Training Series consists of 3 parts.  Each part consists of 3 individual classes.  Classes are interactive and include hands-on practice with real employment scenarios.  \n Part 3    \n\nEmployee Reviews & Evaluations\nDisciplinary Action\nTermination Prep  \n\n\n		\n			\n				\n			\n			\n		 \n		\n			Tammy has expertise in human resources strategies\, talent acquisition\, employee performance management\, training and development\, records management\, safety and health\, succession planning\, employee relations\, retention\, investigations and employment law compliance. Tammy has a B.S. in Psychology from Boise State University. She also holds a SHRM-CP\, CPHR (Canada) and CIWCS (Idaho).
URL:https://www.icrmp.org/event/supervisor-training-series-part-3-latah-moscow/
LOCATION:Latah County Fairgrounds\, 1021 Harold Street\, Moscow\, ID\, 83843\, United States
CATEGORIES:Human Resources
ORGANIZER;CN="Tammy Middleton%2C Human Resources Risk Manager":MAILTO:tmiddleton@icrmp.org
END:VEVENT
END:VCALENDAR