BEGIN:VCALENDAR
VERSION:2.0
PRODID:-//Idaho Counties Risk Management Program - ECPv6.15.18//NONSGML v1.0//EN
CALSCALE:GREGORIAN
METHOD:PUBLISH
X-WR-CALNAME:Idaho Counties Risk Management Program
X-ORIGINAL-URL:https://www.icrmp.org
X-WR-CALDESC:Events for Idaho Counties Risk Management Program
REFRESH-INTERVAL;VALUE=DURATION:PT1H
X-Robots-Tag:noindex
X-PUBLISHED-TTL:PT1H
BEGIN:VTIMEZONE
TZID:America/Boise
BEGIN:DAYLIGHT
TZOFFSETFROM:-0700
TZOFFSETTO:-0600
TZNAME:MDT
DTSTART:20230312T090000
END:DAYLIGHT
BEGIN:STANDARD
TZOFFSETFROM:-0600
TZOFFSETTO:-0700
TZNAME:MST
DTSTART:20231105T080000
END:STANDARD
BEGIN:DAYLIGHT
TZOFFSETFROM:-0700
TZOFFSETTO:-0600
TZNAME:MDT
DTSTART:20240310T090000
END:DAYLIGHT
BEGIN:STANDARD
TZOFFSETFROM:-0600
TZOFFSETTO:-0700
TZNAME:MST
DTSTART:20241103T080000
END:STANDARD
BEGIN:DAYLIGHT
TZOFFSETFROM:-0700
TZOFFSETTO:-0600
TZNAME:MDT
DTSTART:20250309T090000
END:DAYLIGHT
BEGIN:STANDARD
TZOFFSETFROM:-0600
TZOFFSETTO:-0700
TZNAME:MST
DTSTART:20251102T080000
END:STANDARD
END:VTIMEZONE
BEGIN:VEVENT
DTSTART;VALUE=DATE:20240103
DTEND;VALUE=DATE:20240104
DTSTAMP:20260422T012127
CREATED:20231206T172809Z
LAST-MODIFIED:20231206T172809Z
UID:10000129-1704240000-1704326399@www.icrmp.org
SUMMARY:On Demand - Suicide Awareness in the Workplace\, Pre-Recorded Webinar
DESCRIPTION:This is an on demand repeat of a prior live webinar. You can launch this at anytime. This recorded webinar talks about suicide statistics\, risk factors\, warning signs\, protective factors as well as how to have conversations after an attempt or successful suicide in the workplace with coworkers and supervisors. \nClick Here to Watch
URL:https://www.icrmp.org/event/on-demand-suicide-awareness-in-the-workplace-pre-recorded-webinar/
LOCATION:On Demand
CATEGORIES:Health and Safety,Human Resources
ORGANIZER;CN="Kelly Paananen%2C Director of Risk Management":MAILTO:kellyp@icrmp.org
END:VEVENT
END:VCALENDAR