BEGIN:VCALENDAR
VERSION:2.0
PRODID:-//Idaho Counties Risk Management Program - ECPv6.15.18//NONSGML v1.0//EN
CALSCALE:GREGORIAN
METHOD:PUBLISH
X-WR-CALNAME:Idaho Counties Risk Management Program
X-ORIGINAL-URL:https://www.icrmp.org
X-WR-CALDESC:Events for Idaho Counties Risk Management Program
REFRESH-INTERVAL;VALUE=DURATION:PT1H
X-Robots-Tag:noindex
X-PUBLISHED-TTL:PT1H
BEGIN:VTIMEZONE
TZID:America/Boise
BEGIN:DAYLIGHT
TZOFFSETFROM:-0700
TZOFFSETTO:-0600
TZNAME:MDT
DTSTART:20220313T090000
END:DAYLIGHT
BEGIN:STANDARD
TZOFFSETFROM:-0600
TZOFFSETTO:-0700
TZNAME:MST
DTSTART:20221106T080000
END:STANDARD
BEGIN:DAYLIGHT
TZOFFSETFROM:-0700
TZOFFSETTO:-0600
TZNAME:MDT
DTSTART:20230312T090000
END:DAYLIGHT
BEGIN:STANDARD
TZOFFSETFROM:-0600
TZOFFSETTO:-0700
TZNAME:MST
DTSTART:20231105T080000
END:STANDARD
BEGIN:DAYLIGHT
TZOFFSETFROM:-0700
TZOFFSETTO:-0600
TZNAME:MDT
DTSTART:20240310T090000
END:DAYLIGHT
BEGIN:STANDARD
TZOFFSETFROM:-0600
TZOFFSETTO:-0700
TZNAME:MST
DTSTART:20241103T080000
END:STANDARD
END:VTIMEZONE
BEGIN:VEVENT
DTSTART;TZID=America/Boise:20230615T150000
DTEND;TZID=America/Boise:20230615T160000
DTSTAMP:20260422T112903
CREATED:20230512T172706Z
LAST-MODIFIED:20230524T164058Z
UID:10000059-1686841200-1686844800@www.icrmp.org
SUMMARY:Suicide Awareness in the Workplace
DESCRIPTION:In this webinar we will talk about suicide statistics\, risk factors\, warning signs\, protective factors as well as how to have conversations after an attempt or successful suicide in the workplace with coworkers and supervisors. \nGuest speakers: Lee Flinn\, Director @ Idaho Crisis & Suicide Hotline & Samantha Joseph\, Clinical Supervisor @ Idaho Crisis & Suicide Hotline \nBring your questions! We will wrap up with a live Q&A session. This session is open to all ICRMP members. \nWarning: This webinar will include discussion of sensitive material. \nWebinar Flyer \nClick Here to Register \n\n		\n			\n				\n			\n			\n		 \n		\n			Kelly has a wealth of knowledge related to all things Risk. She spent 16 years as the Ada County Risk Manager\, as well as their ADA Coordinator. She holds her Associate in Risk Management designation along with being a licensed adjuster in Idaho. Kelly is well versed in both property and liability insurance risks\, along with an expert at workers compensation.\n		\n			\n		\n 
URL:https://www.icrmp.org/event/suicide-awareness-in-the-workplace/
LOCATION:Webinar
CATEGORIES:Health and Safety,Human Resources
ORGANIZER;CN="Kelly Paananen%2C Director of Risk Management":MAILTO:kellyp@icrmp.org
END:VEVENT
END:VCALENDAR