BEGIN:VCALENDAR
VERSION:2.0
PRODID:-//Idaho Counties Risk Management Program - ECPv6.15.18//NONSGML v1.0//EN
CALSCALE:GREGORIAN
METHOD:PUBLISH
X-WR-CALNAME:Idaho Counties Risk Management Program
X-ORIGINAL-URL:https://www.icrmp.org
X-WR-CALDESC:Events for Idaho Counties Risk Management Program
REFRESH-INTERVAL;VALUE=DURATION:PT1H
X-Robots-Tag:noindex
X-PUBLISHED-TTL:PT1H
BEGIN:VTIMEZONE
TZID:America/Boise
BEGIN:DAYLIGHT
TZOFFSETFROM:-0700
TZOFFSETTO:-0600
TZNAME:MDT
DTSTART:20240310T090000
END:DAYLIGHT
BEGIN:STANDARD
TZOFFSETFROM:-0600
TZOFFSETTO:-0700
TZNAME:MST
DTSTART:20241103T080000
END:STANDARD
BEGIN:DAYLIGHT
TZOFFSETFROM:-0700
TZOFFSETTO:-0600
TZNAME:MDT
DTSTART:20250309T090000
END:DAYLIGHT
BEGIN:STANDARD
TZOFFSETFROM:-0600
TZOFFSETTO:-0700
TZNAME:MST
DTSTART:20251102T080000
END:STANDARD
BEGIN:DAYLIGHT
TZOFFSETFROM:-0700
TZOFFSETTO:-0600
TZNAME:MDT
DTSTART:20260308T090000
END:DAYLIGHT
BEGIN:STANDARD
TZOFFSETFROM:-0600
TZOFFSETTO:-0700
TZNAME:MST
DTSTART:20261101T080000
END:STANDARD
END:VTIMEZONE
BEGIN:VEVENT
DTSTART;TZID=America/Boise:20250108T100000
DTEND;TZID=America/Boise:20250108T110000
DTSTAMP:20260421T033149
CREATED:20241212T163948Z
LAST-MODIFIED:20241212T163948Z
UID:10000299-1736330400-1736334000@www.icrmp.org
SUMMARY:Webinar - Vendor Risks: Weak Links in Your Security Chains
DESCRIPTION:Vendor Risks: Weak Links in Your Security Chains \nThis webinar will explore how to mitigate the potential for vendor risk and provide tactical action steps for assessing and refining current processes\, including vendor due diligence\, procurement\, business continuity plans\, and security tools. \nBring your questions! We will wrap up with a live Q&A session. \nIntended Audience – This is for ICRMP members only. \nGuest Speakers – Cyber Experts: Matthew Meade and Joseph A. Beaulieu \nFlyer Information \nClick Here to Register \n\n		\n			\n				\n			\n			\n		 \n		\n			Matt Meade is a partner with the law firm of Eckert Seaman Cherin and Mellott\, LLC and is the Chair of the firm’s Cybersecurity\, Data Protection and Privacy Group.  He concentrates his practice in the area of cyber security and regularly guides clients through security incident investigations\, analysis of notification requirements\, communications\, and\, if necessary\, responding to regulatory inquiries and litigation. He advises clients including county and city governments on security breach notification laws and other U.S. state and federal data security requirements. Matt regularly conducts and facilitates cyber tabletop exercises designed to test the incident response team’s ability to manage and respond to data breaches. Matt speaks and writes regularly on data security matters and serves on The Sedona Conference Working Group Series Leadership Council\, after previously serving on the Steering Committee for Working Group 11 on Data Security and Privacy\, through which lawyers\, judges\, policy makers\, security experts\, technologists\, and business leaders work together to identify and develop principles and best practices to constructively resolve issues surrounding data security and privacy liability. Matt has served as a Co-Chair of the ABA’s First\, Second\, and Third Annual National Cybersecurity Institute (2016-2018).  Matt has been selected for inclusion in The Best Lawyers in America – Privacy and Data Security Law from 2017 – 2024.\n		\n			\n		\n			\n			\n				\n				\n				\n				\n			\n				\n				\n			\n 
URL:https://www.icrmp.org/event/webinar-vendor-risks-weak-links-in-your-security-chains/
LOCATION:Webinar
CATEGORIES:Governance
END:VEVENT
BEGIN:VEVENT
DTSTART;TZID=America/Boise:20250115T100000
DTEND;TZID=America/Boise:20250115T110000
DTSTAMP:20260421T033150
CREATED:20241211T221302Z
LAST-MODIFIED:20241211T221302Z
UID:10000298-1736935200-1736938800@www.icrmp.org
SUMMARY:Webinar - Behind the Bookshelves: Managing Your Local Library
DESCRIPTION:Behind the Bookshelves: Managing Your Local Library \nThis webinar will explore the unique roles and responsibilities of public city libraries and library districts\, including the similarities and differences between them. Topics will include how budgets are established\, the pivotal role of the library director\, and effective management of staff. We will also discuss the ICRMP-provided sample personnel policies for both cities and library districts\, including how and why they differ. \nBring your questions! We will wrap up with a live Q&A session. \nIntended Audience – This webinar is aimed at public city library and library district managers and leaders. ICRMP members only. \nFlyer Information \nClick Here to Register \n\n		\n			\n				\n			\n			\n		 \n		\n			Carl Ericson has worked either for an Idaho public entity or in their defense for most of his legal career. He spent six years as a Canyon County deputy prosecutor ultimately serving as Chief Civil Deputy. Carl also spent seventeen years as an insurance defense attorney in private practice. He has extensive knowledge in numerous areas of public entity law including employment\, law enforcement\, policies\, contracts\, and governance. ICRMP realizes that not every member has access to\, or can afford\, legal counsel. While not taking the place of a member’s attorney\, Carl is available to provide legal guidance on a wide variety of topics.\n		\n			\n		\n			\n			\n				\n				\n				\n				\n			\n				\n				\n			\n 
URL:https://www.icrmp.org/event/webinar-behind-the-bookshelves-managing-your-local-library/
LOCATION:Webinar
CATEGORIES:Governance
END:VEVENT
END:VCALENDAR