BEGIN:VCALENDAR
VERSION:2.0
PRODID:-//Idaho Counties Risk Management Program - ECPv6.15.18//NONSGML v1.0//EN
CALSCALE:GREGORIAN
METHOD:PUBLISH
X-ORIGINAL-URL:https://www.icrmp.org
X-WR-CALDESC:Events for Idaho Counties Risk Management Program
REFRESH-INTERVAL;VALUE=DURATION:PT1H
X-Robots-Tag:noindex
X-PUBLISHED-TTL:PT1H
BEGIN:VTIMEZONE
TZID:America/Boise
BEGIN:DAYLIGHT
TZOFFSETFROM:-0700
TZOFFSETTO:-0600
TZNAME:MDT
DTSTART:20240310T090000
END:DAYLIGHT
BEGIN:STANDARD
TZOFFSETFROM:-0600
TZOFFSETTO:-0700
TZNAME:MST
DTSTART:20241103T080000
END:STANDARD
BEGIN:DAYLIGHT
TZOFFSETFROM:-0700
TZOFFSETTO:-0600
TZNAME:MDT
DTSTART:20250309T090000
END:DAYLIGHT
BEGIN:STANDARD
TZOFFSETFROM:-0600
TZOFFSETTO:-0700
TZNAME:MST
DTSTART:20251102T080000
END:STANDARD
BEGIN:DAYLIGHT
TZOFFSETFROM:-0700
TZOFFSETTO:-0600
TZNAME:MDT
DTSTART:20260308T090000
END:DAYLIGHT
BEGIN:STANDARD
TZOFFSETFROM:-0600
TZOFFSETTO:-0700
TZNAME:MST
DTSTART:20261101T080000
END:STANDARD
END:VTIMEZONE
BEGIN:VEVENT
DTSTART;TZID=America/Boise:20250512T110000
DTEND;TZID=America/Boise:20250512T120000
DTSTAMP:20260422T044119
CREATED:20250402T173152Z
LAST-MODIFIED:20250402T173521Z
UID:10000386-1747047600-1747051200@www.icrmp.org
SUMMARY:Webinar - Low Pressure Boiler Training and Maintenance
DESCRIPTION:Low Pressure Boiler Training and Maintenance Webinar presented by ICRMP and CNA Insurance \nDescription: You are invited to attend a School of Risk Control Excellence (SORCE®) Training Session put on by ICRMP’s Boiler Reinsurer\, CNA Insurance. Even with expert installation and regular maintenance\, boilers still break down and experience catastrophic failures that can shut down your facility. This course will focus on boiler inspections\, boiler operational procedures\, boiler controls and safety devices\, and the importance of an effective boiler water treatment program for low-pressure boilers. \nIntended Audience: Facility managers\, maintenance supervisors and technicians\, boiler operators and anyone responsible for the safe operation of commercial\, industrial\, and institutional boilers. ICRMP Members Only. \nBring your questions! We will wrap up with a live Q&A session. \nFlyer Information \nClick Here to Register \nGuest Speaker – Stephen Lee\, Risk Control Consultant and CNA Insurance \n\n		\n			\n				\n			Stephen Lee is a Risk Control Consultant with CNA Insurance\, a top 10 commercial insurance carrier. Stephen has worked for CNA since 2015. Over that time\, he has delivered services including statutory boiler/pressure vessel inspections\, commercial/industrial Risk Assessments\, Claim Investigations\, as well as training associated with each of those segments. He has his undergraduate degree in Facilities Engineering from the Massachusetts Maritime Academy and is pursuing a graduate degree in Industrial & Systems Engineering from the University of Washington. He resides in Seattle\, Washington with his wife and their two cats. In his free time\, Stephen enjoys biking\, hiking/backpacking\, Jiu-Jitsu\, and going to concerts.\n		\n			\n		\n			\n			\n				\n				\n				\n				\n			\n				\n				\n			\n 
URL:https://www.icrmp.org/event/webinar-low-pressure-boiler-training-and-maintenance/
LOCATION:Webinar
CATEGORIES:Facilities Management,Risk Management
END:VEVENT
END:VCALENDAR