BEGIN:VCALENDAR
VERSION:2.0
PRODID:-//Idaho Counties Risk Management Program - ECPv6.15.18//NONSGML v1.0//EN
CALSCALE:GREGORIAN
METHOD:PUBLISH
X-WR-CALNAME:Idaho Counties Risk Management Program
X-ORIGINAL-URL:https://www.icrmp.org
X-WR-CALDESC:Events for Idaho Counties Risk Management Program
REFRESH-INTERVAL;VALUE=DURATION:PT1H
X-Robots-Tag:noindex
X-PUBLISHED-TTL:PT1H
BEGIN:VTIMEZONE
TZID:America/Boise
BEGIN:DAYLIGHT
TZOFFSETFROM:-0700
TZOFFSETTO:-0600
TZNAME:MDT
DTSTART:20220313T090000
END:DAYLIGHT
BEGIN:STANDARD
TZOFFSETFROM:-0600
TZOFFSETTO:-0700
TZNAME:MST
DTSTART:20221106T080000
END:STANDARD
BEGIN:DAYLIGHT
TZOFFSETFROM:-0700
TZOFFSETTO:-0600
TZNAME:MDT
DTSTART:20230312T090000
END:DAYLIGHT
BEGIN:STANDARD
TZOFFSETFROM:-0600
TZOFFSETTO:-0700
TZNAME:MST
DTSTART:20231105T080000
END:STANDARD
BEGIN:DAYLIGHT
TZOFFSETFROM:-0700
TZOFFSETTO:-0600
TZNAME:MDT
DTSTART:20240310T090000
END:DAYLIGHT
BEGIN:STANDARD
TZOFFSETFROM:-0600
TZOFFSETTO:-0700
TZNAME:MST
DTSTART:20241103T080000
END:STANDARD
END:VTIMEZONE
BEGIN:VEVENT
DTSTART;TZID=America/Boise:20230517T100000
DTEND;TZID=America/Boise:20230517T110000
DTSTAMP:20260423T133353
CREATED:20230316T183630Z
LAST-MODIFIED:20230420T164238Z
UID:10000023-1684317600-1684321200@www.icrmp.org
SUMMARY:Parks\, Playgrounds & Pools: A Deep Dive into Risk Management
DESCRIPTION:Summer season is here: Learn best practices for parks and recreation and swimming pool management\, plus common risks and how to avoid them. \nParticipate in interactive scenarios. Bring your questions! We will wrap up with a live Q and A session. \nGuest Presenters are Cody Swander\, Asst Parks & Rec Director\, & Jessica Vanderpool\, Aquatics Supervisor\, from the City of Nampa. \nFlyer Information \nClick Here to Register \n\n		\n			\n				\n			\n			\n		 \n		\n			Kelly has a wealth of knowledge related to all things Risk. She spent 16 years as the Ada County Risk Manager\, as well as their ADA Coordinator. She holds her Associate in Risk Management designation along with being a licensed adjuster in Idaho. Kelly is well versed in both property and liability insurance risks\, along with an expert at workers compensation.\n		\n			\n		\n 
URL:https://www.icrmp.org/event/parks-playgrounds-pools-a-deep-dive-into-risk-management/
LOCATION:Webinar
CATEGORIES:Facilities Management,Parks and Recreation
ORGANIZER;CN="Kelly Paananen%2C Director of Risk Management":MAILTO:kellyp@icrmp.org
END:VEVENT
END:VCALENDAR