BEGIN:VCALENDAR
VERSION:2.0
PRODID:-//Idaho Counties Risk Management Program - ECPv6.15.18//NONSGML v1.0//EN
CALSCALE:GREGORIAN
METHOD:PUBLISH
X-ORIGINAL-URL:https://www.icrmp.org
X-WR-CALDESC:Events for Idaho Counties Risk Management Program
REFRESH-INTERVAL;VALUE=DURATION:PT1H
X-Robots-Tag:noindex
X-PUBLISHED-TTL:PT1H
BEGIN:VTIMEZONE
TZID:America/Boise
BEGIN:DAYLIGHT
TZOFFSETFROM:-0700
TZOFFSETTO:-0600
TZNAME:MDT
DTSTART:20220313T090000
END:DAYLIGHT
BEGIN:STANDARD
TZOFFSETFROM:-0600
TZOFFSETTO:-0700
TZNAME:MST
DTSTART:20221106T080000
END:STANDARD
BEGIN:DAYLIGHT
TZOFFSETFROM:-0700
TZOFFSETTO:-0600
TZNAME:MDT
DTSTART:20230312T090000
END:DAYLIGHT
BEGIN:STANDARD
TZOFFSETFROM:-0600
TZOFFSETTO:-0700
TZNAME:MST
DTSTART:20231105T080000
END:STANDARD
BEGIN:DAYLIGHT
TZOFFSETFROM:-0700
TZOFFSETTO:-0600
TZNAME:MDT
DTSTART:20240310T090000
END:DAYLIGHT
BEGIN:STANDARD
TZOFFSETFROM:-0600
TZOFFSETTO:-0700
TZNAME:MST
DTSTART:20241103T080000
END:STANDARD
END:VTIMEZONE
BEGIN:VEVENT
DTSTART;TZID=America/Boise:20230322T100000
DTEND;TZID=America/Boise:20230322T110000
DTSTAMP:20260423T161917
CREATED:20230315T230037Z
LAST-MODIFIED:20230315T230255Z
UID:10000010-1679479200-1679482800@www.icrmp.org
SUMMARY:What's so Special about Special Events?
DESCRIPTION:This webinar covers what you need to know about agency sponsored events and what to know if someone rents your public spaces. Identify the risks involved in different types of events\, key stakeholders\, and how to avoid catastrophe.\nParticipate in interactive scenarios to check your knowledge and understanding. Bring your questions! We will wrap up with a live Q&A session. \n\n		\n			\n				\n			\n			\n		 \n		\n			Kelly has a wealth of knowledge related to all things Risk. She spent 16 years as the Ada County Risk Manager\, as well as their ADA Coordinator. She holds her Associate in Risk Management designation along with being a licensed adjuster in Idaho. Kelly is well versed in both property and liability insurance risks\, along with an expert at workers compensation.\n		\n			\n		\n\n		\n			\n				\n			\n			\n		 \n		\n			Carl has over 17 years as an insurance defense attorney. He spent 5 years as Deputy Prosecutor. His primary focus for ICRMP is employment law and law enforcement legal risks. Call Carl before you terminate or take adverse employment action.
URL:https://www.icrmp.org/event/whats-so-special-about-special-events/
LOCATION:Webinar
CATEGORIES:Facilities Management
END:VEVENT
END:VCALENDAR